BEGIN:VCALENDAR
VERSION:2.0
PRODID:-//ChamberMaster//Event Calendar 2.0//EN
METHOD:PUBLISH
X-PUBLISHED-TTL:P3D
REFRESH-INTERVAL:P3D
CALSCALE:GREGORIAN
BEGIN:VEVENT
DTSTART:20140908T000000Z
DTEND:20140908T013000Z
X-MICROSOFT-CDO-ALLDAYEVENT:FALSE
SUMMARY:Mendocino Art Center presents Synesthesia by Toby Lurie
DESCRIPTION:The Lost Coast Word Music Ensemble demonstrates through performance how all major art disciplines are connected. Toby is a poet\, musician and painter whose work is actually something really new. It is oral and aural poetry for voice and ear. When read silently it is also eye poetry
X-ALT-DESC;FMTTYPE=text/html:<p>The Lost Coast Word Music Ensemble demonstrates through performance how all major art disciplines are connected. Toby is a poet\, musician and painter whose work is actually something really new. It is oral and aural poetry for voice and ear. When read silently it is also eye poetry</p>
LOCATION:Mendocino Art Center\, 45200 Little Lake Street\, Mendocino
UID:e.2883.62
SEQUENCE:3
DTSTAMP:20260422T232251Z
URL:https://mendocinocoast.com/events/details/mendocino-art-center-presents-synesthesia-by-toby-lurie-09-07-2014-62
END:VEVENT

END:VCALENDAR
