BEGIN:VCALENDAR
VERSION:2.0
PRODID:-//ChamberMaster//Event Calendar 2.0//EN
METHOD:PUBLISH
X-PUBLISHED-TTL:P3D
REFRESH-INTERVAL:P3D
CALSCALE:GREGORIAN
BEGIN:VEVENT
DTSTART:20140707T020000Z
DTEND:20140706T080000Z
X-MICROSOFT-CDO-ALLDAYEVENT:FALSE
SUMMARY:Mendocino Art Center presents Steven Bates in Concert
DESCRIPTION:Steven Bates will play selected songs from his last two albums he recorded in Mendocino County\, a few from the work he did in Hollywood\, and scattered songs that have yet to find themselves cast in the amber of the recording studio.
X-ALT-DESC;FMTTYPE=text/html:<p>Steven Bates will play selected songs from his last two albums he recorded in Mendocino County\, a few from the work he did in Hollywood\, and scattered songs that have yet to find themselves cast in the amber of the recording studio.</p>
LOCATION:Mendocino Art Center\, 45200 Little Lake Street\, Mendocino
UID:e.2883.61
SEQUENCE:3
DTSTAMP:20260423T041001Z
URL:https://mendocinocoast.com/events/details/mendocino-art-center-presents-steven-bates-in-concert-07-06-2014-61
END:VEVENT

END:VCALENDAR
