BEGIN:VCALENDAR
VERSION:2.0
PRODID:-//ChamberMaster//Event Calendar 2.0//EN
METHOD:PUBLISH
X-PUBLISHED-TTL:P3D
REFRESH-INTERVAL:P3D
CALSCALE:GREGORIAN
BEGIN:VEVENT
DTSTART:20140514T170000Z
DTEND:20140515T000000Z
X-MICROSOFT-CDO-ALLDAYEVENT:FALSE
SUMMARY:Mendocino Art Center presents Silk and Glass Exhibit
DESCRIPTION:Silk and Glass ExhibitÂ June 9 through July 7\, 2014\, 10 am to 5 pm dailyÂ An invitation showing of prestigious silk and glass artists:Â SilkMary Edna FraserMickie McCormicSusan Louise MoyerLiubov SemionovaMerridee Joan SmithJoy StocksdaleBarbara WoodsÂ GlassBuster DyerKale HaschakErika Kohr IslandMarvin LipofskyJP LongCynthia MyersDemetra TheofanousÂ 2nd Saturday Gallery Reception: June 14\, 5 pm â€“ 8 pm â€¢ Free admission
X-ALT-DESC;FMTTYPE=text/html:<p><span style="font-size:small\;"><strong>Silk and Glass Exhibit</strong></span></p><p>Â </p><p><span style="font-size:small\;">June 9 through July 7\, 2014\, 10 am to 5 pm daily</span></p><p>Â </p><p><span style="font-size:small\;">An invitation showing of prestigious silk and glass artists:</span></p><p>Â </p><p><span style="font-size:small\;"><strong>Silk</strong></span></p><p><span style="font-size:small\;">Mary Edna Fraser</span></p><p><span style="font-size:small\;">Mickie McCormic</span></p><p><span style="font-size:small\;">Susan Louise Moyer</span></p><p><span style="font-size:small\;">Liubov Semionova</span></p><p><span style="font-size:small\;">Merridee Joan Smith</span></p><p><span style="font-size:small\;">Joy Stocksdale</span></p><p><span style="font-size:small\;">Barbara Woods</span></p><p>Â </p><p><span style="font-size:small\;"><strong>Glass</strong></span></p><p><span style="font-size:small\;">Buster Dyer</span></p><p><span style="font-size:small\;">Kale Haschak</span></p><p><span style="font-size:small\;">Erika Kohr Island</span></p><p><span style="font-size:small\;">Marvin Lipofsky</span></p><p><span style="font-size:small\;">JP Long</span></p><p><span style="font-size:small\;">Cynthia Myers</span></p><p><span style="font-size:small\;">Demetra Theofanous</span></p><p>Â </p><p><span style="font-size:small\;">2<sup>nd</sup> Saturday Gallery Reception: June 14\, 5 pm â€“ 8 pm â€¢ Free admission</span></p>
LOCATION:Mendocino Art Center
UID:e.2883.270
SEQUENCE:3
DTSTAMP:20260423T083258Z
URL:https://mendocinocoast.com/events/details/mendocino-art-center-presents-silk-and-glass-exhibit-05-14-2014-270
END:VEVENT

END:VCALENDAR
