BEGIN:VCALENDAR
VERSION:2.0
PRODID:-//ChamberMaster//Event Calendar 2.0//EN
METHOD:PUBLISH
X-PUBLISHED-TTL:P3D
REFRESH-INTERVAL:P3D
CALSCALE:GREGORIAN
BEGIN:VEVENT
DTSTART:20140725T170000Z
DTEND:20140726T000000Z
X-MICROSOFT-CDO-ALLDAYEVENT:FALSE
SUMMARY:Mendocino Art Center presents Miasa Sister City Art Exchange Exhibit
DESCRIPTION:Nine artists from the Miasa-Omachi area in Nagano Prefecture are exhibiting their artwork as part of the fourth bi-ennial Miasa Sister City Art Exchange Exhibit.Â Mendocino Art Center founder Bill Zacha and artist Toshi Yoshida formalized the sister city relationship in 1980. In 1992 Miasa and Mendocino started annual youth exchanges that have continued throughout the years. The Annual Art Exchange Exhibit was inaugurated in 2008 at the Mendocino Art Center\, followed by showings in 2010 and 2012. Mendocino Coast artists have exhibited their work in Omachi\, Japan\, in 2009\, 2011 and 2013.Â Featured artistsTokio Oda | woodcraft â€¢ Masaru Isoiwa | clay â€¢ Noboru Hirabayashi | potteryâ€¨ â€¢ Gen Hashiba | woodcraft â€¢ Sachiko Matsubara | glass â€¢ Asako Watanabe | potteryâ€¨ â€¢ Hitoshi Kikuchi | dyed cloth â€¢ Shirio Kasai | blown glass â€¢ Keiichi Murata | ceramicsÂ Free Second Saturday Gallery Reception: August 9\, 5 pm - 8 pmÂ Held in conjunction with the exhibitÂ Wa no kokoro â€“ The Spirit of JapanSaturday\, August 23\, 1 pm â€“ 5 pmÂ Enjoy art music and the food of Japan. Bento box lunch\, art\, demonstrations and more.Karl Young Shakuhachi\, 4 pm
X-ALT-DESC;FMTTYPE=text/html:<p>Nine artists from the Miasa-Omachi area in Nagano Prefecture are exhibiting their artwork as part of the fourth bi-ennial Miasa Sister City Art Exchange Exhibit.</p><p>Â </p><p>Mendocino Art Center founder Bill Zacha and artist Toshi Yoshida formalized the sister city relationship in 1980. In 1992 Miasa and Mendocino started annual youth exchanges that have continued throughout the years. The Annual Art Exchange Exhibit was inaugurated in 2008 at the Mendocino Art Center\, followed by showings in 2010 and 2012. Mendocino Coast artists have exhibited their work in Omachi\, Japan\, in 2009\, 2011 and 2013.</p><p>Â </p><p><strong>Featured artists</strong></p><p>Tokio Oda | woodcraft â€¢ Masaru Isoiwa | clay â€¢ Noboru Hirabayashi | potteryâ€¨ â€¢ Gen Hashiba | woodcraft â€¢ Sachiko Matsubara | glass â€¢ Asako Watanabe | potteryâ€¨ â€¢ Hitoshi Kikuchi | dyed cloth â€¢ Shirio Kasai | blown glass â€¢ Keiichi Murata | ceramics</p><p>Â </p><p>Free Second Saturday Gallery Reception: August 9\, 5 pm - 8 pm</p><p>Â </p><p>Held in conjunction with the exhibit</p><p>Â </p><p><strong>Wa no kokoro â€“ The Spirit of Japan</strong></p><p>Saturday\, August 23\, 1 pm â€“ 5 pm</p><p>Â </p><p>Enjoy art music and the food of Japan. Bento box lunch\, art\, demonstrations and more.</p><p>Karl Young <em>Shakuhachi</em>\, 4 pm</p>
LOCATION:Mendocino Art Center
UID:e.2883.295
SEQUENCE:3
DTSTAMP:20260423T023915Z
URL:https://mendocinocoast.com/events/details/mendocino-art-center-presents-miasa-sister-city-art-exchange-exhibit-07-25-2014-295
END:VEVENT

END:VCALENDAR
