BEGIN:VCALENDAR
VERSION:2.0
PRODID:-//ChamberMaster//Event Calendar 2.0//EN
METHOD:PUBLISH
X-PUBLISHED-TTL:P3D
REFRESH-INTERVAL:P3D
CALSCALE:GREGORIAN
BEGIN:VEVENT
DTSTART:20140111T040000Z
DTEND:20140111T070000Z
X-MICROSOFT-CDO-ALLDAYEVENT:FALSE
SUMMARY:Mendocino Art Center presents Members Juried Exhibit
DESCRIPTION:The Mendocino Art Center shines its Main Gallery spotlight on the all-media artwork of its contributing members in the Members Juried Exhibit. Each year\, the Mendocino Art Center presents two members exhibits featuring the finest works created by the Art Centers contributing members. A highly competitive juried selection process leads to an exceptionally creative\, high quality\, and much anticipated gallery showing with a wide spectrum of artwork\, including paintings\, ceramics\, sculpture\, collage\, wearable art\, photography and more. Local artist John Hewitt is the juror for this show.
X-ALT-DESC;FMTTYPE=text/html:<p>The Mendocino Art Center shines its Main Gallery spotlight on the all-media artwork of its contributing members in the Members Juried Exhibit. Each year\, the Mendocino Art Center presents two members exhibits featuring the finest works created by the Art Centers contributing members. A highly competitive juried selection process leads to an exceptionally creative\, high quality\, and much anticipated gallery showing with a wide spectrum of artwork\, including paintings\, ceramics\, sculpture\, collage\, wearable art\, photography and more. Local artist John Hewitt is the juror for this show.</p>
LOCATION:Mendocino Art Center\, 45200 Little Lake Street\, Mendocino
UID:e.2883.60
SEQUENCE:3
DTSTAMP:20260423T162326Z
URL:https://mendocinocoast.com/events/details/mendocino-art-center-presents-members-juried-exhibit-01-10-2014-60
END:VEVENT

END:VCALENDAR
