BEGIN:VCALENDAR
VERSION:2.0
PRODID:-//ChamberMaster//Event Calendar 2.0//EN
METHOD:PUBLISH
X-PUBLISHED-TTL:P3D
REFRESH-INTERVAL:P3D
CALSCALE:GREGORIAN
BEGIN:VEVENT
DTSTART:20140505T020000Z
DTEND:20140504T080000Z
X-MICROSOFT-CDO-ALLDAYEVENT:FALSE
SUMMARY:Mendocino Art Center presents James Marchand in Concert
DESCRIPTION:James Marchand will be playing a concert of original pieces\, including Sonatina in D (written in memory of his stepmother)\, pieces from Euphemia\, the Fantastic Poem\, plus some shorter minor works. James has appeared in concert as a soloist\, as a chamber musician\, and as an instrumental and vocal accompanist. In reviews\, he is described as playing with a big\, rich tone\, and with beautiful expression.
X-ALT-DESC;FMTTYPE=text/html:<p>James Marchand will be playing a concert of original pieces\, including Sonatina in D (written in memory of his stepmother)\, pieces from Euphemia\, the Fantastic Poem\, plus some shorter minor works. James has appeared in concert as a soloist\, as a chamber musician\, and as an instrumental and vocal accompanist. In reviews\, he is described as playing with a big\, rich tone\, and with beautiful expression.</p>
LOCATION:Mendocino Art Center\, 45200 Little Lake Street\, Mendocino
UID:e.2883.59
SEQUENCE:3
DTSTAMP:20260423T083256Z
URL:https://mendocinocoast.com/events/details/mendocino-art-center-presents-james-marchand-in-concert-05-04-2014-59
END:VEVENT

END:VCALENDAR
