BEGIN:VCALENDAR
VERSION:2.0
PRODID:-//ChamberMaster//Event Calendar 2.0//EN
METHOD:PUBLISH
X-PUBLISHED-TTL:P3D
REFRESH-INTERVAL:P3D
CALSCALE:GREGORIAN
BEGIN:VEVENT
DTSTART;VALUE=DATE:20140531
DTEND;VALUE=DATE:20140601
TRANSP:TRANSPARENT
X-MICROSOFT-CDO-ALLDAYEVENT:TRUE
SUMMARY:Mendocino Art Center presents Experimental Consciousness: The Music of Jay Sydeman
DESCRIPTION:
X-ALT-DESC;FMTTYPE=text/html:
LOCATION:Mendocino Art Center\, 45200 Little Lake Street\, Mendocino
UID:e.2883.58
SEQUENCE:3
DTSTAMP:20260423T083323Z
URL:https://mendocinocoast.com/events/details/mendocino-art-center-presents-experimental-consciousness-the-music-of-jay-sydeman-05-31-2014-58
END:VEVENT

END:VCALENDAR
