BEGIN:VCALENDAR
VERSION:2.0
PRODID:-//ChamberMaster//Event Calendar 2.0//EN
METHOD:PUBLISH
X-PUBLISHED-TTL:P3D
REFRESH-INTERVAL:P3D
CALSCALE:GREGORIAN
BEGIN:VEVENT
DTSTART:20140131T230000Z
DTEND:20140201T013000Z
X-MICROSOFT-CDO-ALLDAYEVENT:FALSE
SUMMARY:Mendocino Art Center presents Chairs in Many Forms Exhibit
DESCRIPTION:CHAIRS IN MANY FORMS presents the work of Lillian Cartwright and Bob Spies who have independently incorporated the chair into their art. Chairs are seemingly humble and common objects
X-ALT-DESC;FMTTYPE=text/html:<p>CHAIRS IN MANY FORMS presents the work of Lillian Cartwright and Bob Spies who have independently incorporated the chair into their art. Chairs are seemingly humble and common objects</p>
LOCATION:Mendocino Art Center\, 45200 Little Lake Street\, Mendocino
UID:e.2883.57
SEQUENCE:3
DTSTAMP:20260423T145952Z
URL:https://mendocinocoast.com/events/details/mendocino-art-center-presents-chairs-in-many-forms-exhibit-01-31-2014-57
END:VEVENT

END:VCALENDAR
