BEGIN:VCALENDAR
VERSION:2.0
PRODID:-//ChamberMaster//Event Calendar 2.0//EN
METHOD:PUBLISH
X-PUBLISHED-TTL:P3D
REFRESH-INTERVAL:P3D
CALSCALE:GREGORIAN
BEGIN:VEVENT
DTSTART:20140407T020000Z
DTEND:20140406T080000Z
X-MICROSOFT-CDO-ALLDAYEVENT:FALSE
SUMMARY:Mendocino Art Center presents All About Sally in Concert
DESCRIPTION:ALL ABOUT SALLY is an American Roots music group based on the Mendocino Coast\, with members David Alden\, Jacob Aranda\, Sally Graney and Jessie Lee Van Sant. Accompanying themselves with guitar\, mandolin\, fiddle or dobro\, All About Sally presents tight vocal arrangements of an eclectic selection of American Roots Music\, ranging from traditional American ballads and folk songs\, through new-grass material and modern renditions of old style material by such artists as Gillian Welch and Old Crow Medicine Show\, to covers of such other great singer songwriters as John Prine\, Cheryl Wheeler\, Roy Orbison and John Fogerty. The band also does original material written by its various members.
X-ALT-DESC;FMTTYPE=text/html:<p>ALL ABOUT SALLY is an American Roots music group based on the Mendocino Coast\, with members David Alden\, Jacob Aranda\, Sally Graney and Jessie Lee Van Sant. Accompanying themselves with guitar\, mandolin\, fiddle or dobro\, All About Sally presents tight vocal arrangements of an eclectic selection of American Roots Music\, ranging from traditional American ballads and folk songs\, through new-grass material and modern renditions of old style material by such artists as Gillian Welch and Old Crow Medicine Show\, to covers of such other great singer songwriters as John Prine\, Cheryl Wheeler\, Roy Orbison and John Fogerty. The band also does original material written by its various members.</p>
LOCATION:Mendocino Art Center\, 45200 Little Lake Street\, Mendocino
UID:e.2883.56
SEQUENCE:3
DTSTAMP:20260423T100436Z
URL:https://mendocinocoast.com/events/details/mendocino-art-center-presents-all-about-sally-in-concert-04-06-2014-56
END:VEVENT

END:VCALENDAR
