BEGIN:VCALENDAR
VERSION:2.0
PRODID:-//ChamberMaster//Event Calendar 2.0//EN
METHOD:PUBLISH
X-PUBLISHED-TTL:P3D
REFRESH-INTERVAL:P3D
CALSCALE:GREGORIAN
BEGIN:VEVENT
DTSTART:20140203T210000Z
DTEND:20140204T000000Z
X-MICROSOFT-CDO-ALLDAYEVENT:FALSE
SUMMARY:Mendocino Art Center presents A Taste of Chocolate\, Wine and Ale
DESCRIPTION:The Mendocino Art Center presents an enjoyable afternoon of exceptional food\, wine and ale samples from some of Mendocino Countyâ€™s finest wineries\, breweries and food purveyors. A tasty way to spend your Memorial Day Weekend in Magical Mendocino. Listen to live music and wander the Silent Auction where you can bid on Mendocino County food and wine products to take home. All proceeds benefit the Mendocino Art Center. A Taste of Chocolate\, Wine & Ale is sponsored by Pamela Hudson Real Estate.
X-ALT-DESC;FMTTYPE=text/html:<p>The Mendocino Art Center presents an enjoyable afternoon of exceptional food\, wine and ale samples from some of Mendocino Countyâ€™s finest wineries\, breweries and food purveyors. A tasty way to spend your Memorial Day Weekend in Magical Mendocino. Listen to live music and wander the Silent Auction where you can bid on Mendocino County food and wine products to take home. All proceeds benefit the Mendocino Art Center. A Taste of Chocolate\, Wine &amp\; Ale is sponsored by Pamela Hudson Real Estate.</p>
LOCATION:Mendocino Art Center
UID:e.2883.116
SEQUENCE:3
DTSTAMP:20260423T132229Z
URL:https://mendocinocoast.com/events/details/mendocino-art-center-presents-a-taste-of-chocolate-wine-and-ale-02-03-2014-116
END:VEVENT

END:VCALENDAR
