BEGIN:VCALENDAR
VERSION:2.0
PRODID:-//ChamberMaster//Event Calendar 2.0//EN
METHOD:PUBLISH
X-PUBLISHED-TTL:P3D
REFRESH-INTERVAL:P3D
CALSCALE:GREGORIAN
BEGIN:VEVENT
DTSTART;VALUE=DATE:20140203
DTEND;VALUE=DATE:20140204
TRANSP:TRANSPARENT
X-MICROSOFT-CDO-ALLDAYEVENT:TRUE
SUMMARY:Mendocino Art Center
DESCRIPTION:Join the Mendocino Art Center on the red carpet as we host a live screening of the 86th Annual Academy Awards. All the Hollywood stars will be thereâ€¦ Matthew McConaughey\, Meryl Streep\, Bradley Cooper\, Jennifer Lawrence. Well\, on screen anyway. Enjoy delicious hors dâ€™oeuvres\, treats\, beverages and more throughout the night. Browse the silent auction featuring jewelry created by talented Mendocino coast artists. You can even make your own Oscar picks and have the chance to win prizes. Dress in your finest red carpet attire. The delectable hors d'oeuvres selections include cold soup shot\, spicy albacore on rice crackers\, stuffed mushrooms\, curried chicken in wonton cups\, shrimp dumplings with sauce\, sausage apple bites\, puff pastry\, mini crab cakes\, teriyaki flank steak on bamboo skewers and mini bastillas. Devine desserts include mini cheesecakes with lemon curd and matcha truffles. All proceeds benefit the Mendocino Art Centerâ€™s Jewelry Department.
X-ALT-DESC;FMTTYPE=text/html:<p>Join the Mendocino Art Center on the red carpet as we host a live screening of the 86th Annual Academy Awards. All the Hollywood stars will be thereâ€¦ Matthew McConaughey\, Meryl Streep\, Bradley Cooper\, Jennifer Lawrence. Well\, on screen anyway. Enjoy delicious hors dâ€™oeuvres\, treats\, beverages and more throughout the night. Browse the silent auction featuring jewelry created by talented Mendocino coast artists. You can even make your own Oscar picks and have the chance to win prizes. Dress in your finest red carpet attire. The delectable hors d'oeuvres selections include cold soup shot\, spicy albacore on rice crackers\, stuffed mushrooms\, curried chicken in wonton cups\, shrimp dumplings with sauce\, sausage apple bites\, puff pastry\, mini crab cakes\, teriyaki flank steak on bamboo skewers and mini bastillas. Devine desserts include mini cheesecakes with lemon curd and matcha truffles. All proceeds benefit the Mendocino Art Centerâ€™s Jewelry Department.</p>
LOCATION:Mendocino Art Center
UID:e.2883.118
SEQUENCE:3
DTSTAMP:20260423T131632Z
URL:https://mendocinocoast.com/events/details/mendocino-art-center-02-03-2014-118
END:VEVENT

END:VCALENDAR
