BEGIN:VCALENDAR
VERSION:2.0
PRODID:-//ChamberMaster//Event Calendar 2.0//EN
METHOD:PUBLISH
X-PUBLISHED-TTL:P3D
REFRESH-INTERVAL:P3D
CALSCALE:GREGORIAN
BEGIN:VEVENT
DTSTART:20150206T200000Z
DTEND:20150207T000100Z
X-MICROSOFT-CDO-ALLDAYEVENT:FALSE
SUMMARY:"Mendocino: A Sense of Place" exhibition at the Kelley House
DESCRIPTION:A new exhibition at the Kelley House\, â€œMendocino: A Sense of Place\,â€ will feature a collection of historic maps from the Kelley House Archives and private collections to tell the story of Mendocino and the Coast from its beginnings to the present. The Kelley House Museum is open Friday â€“ Monday from 11:00 â€“ 3:00\, located at 45007 Albion Street.Call 707-937-5791 for more information or go to www.kelleyhousemuseum.org
X-ALT-DESC;FMTTYPE=text/html:<p>A new exhibition at the Kelley House\, â€œMendocino: A Sense of Place\,â€ will feature a collection of historic maps from the Kelley House Archives and private collections to tell the story of Mendocino and the Coast from its beginnings to the present. The Kelley House Museum is open Friday â€“ Monday from 11:00 â€“ 3:00\, located at 45007 Albion Street.</p><p>Call 707-937-5791 for more information or go to <a href="http://www.kelleyhousemuseum.org" target="_blank">www.kelleyhousemuseum.org</a></p>
LOCATION:Kelley House Museum Mendocino\, CA
UID:e.2883.504
SEQUENCE:3
DTSTAMP:20260422T151753Z
URL:https://mendocinocoast.com/events/details/mendocino-a-sense-of-place-exhibition-at-the-kelley-house-02-06-2015-504
END:VEVENT

END:VCALENDAR
