BEGIN:VCALENDAR
VERSION:2.0
PRODID:-//ChamberMaster//Event Calendar 2.0//EN
METHOD:PUBLISH
X-PUBLISHED-TTL:P3D
REFRESH-INTERVAL:P3D
CALSCALE:GREGORIAN
BEGIN:VEVENT
DTSTART;VALUE=DATE:20140308
DTEND;VALUE=DATE:20140309
TRANSP:TRANSPARENT
X-MICROSOFT-CDO-ALLDAYEVENT:TRUE
SUMMARY:Meet & Greet your elected Officials
DESCRIPTION:The League of Women Voters cordially invites you to its ninth annual "Meet and Greet Your Local Elected Officials. Â This is an excellent opportunity for Community leaders to meet their elected officials in an informal\, non-political setting. Â The event is free and open to the public. Â  Wine and hors d'oeuvres will be served. Â We hope to see you there. Â 5-7pm
X-ALT-DESC;FMTTYPE=text/html:<p>The League of Women Voters cordially invites you to its ninth annual "Meet and Greet Your Local Elected Officials. Â This is an excellent opportunity for Community leaders to meet their elected officials in an informal\, non-political setting. Â The event is free and open to the public. Â  Wine and hors d'oeuvres will be served. Â We hope to see you there. Â 5-7pm</p>
LOCATION:Caspar Community Center
UID:e.2883.169
SEQUENCE:3
DTSTAMP:20260423T113611Z
URL:https://mendocinocoast.com/events/details/meet-greet-your-elected-officials-03-08-2014-169
END:VEVENT

END:VCALENDAR
