BEGIN:VCALENDAR
VERSION:2.0
PRODID:-//ChamberMaster//Event Calendar 2.0//EN
METHOD:PUBLISH
X-PUBLISHED-TTL:P3D
REFRESH-INTERVAL:P3D
CALSCALE:GREGORIAN
BEGIN:VEVENT
DTSTART:20150212T170000Z
DTEND:20150212T231100Z
X-MICROSOFT-CDO-ALLDAYEVENT:FALSE
SUMMARY:MCSD "Parking Lot Sale"
DESCRIPTION:Norvell"s\, will host the Mendocino Coast Sea Dragons "Parking lot Sale". Sat. March 28\, 9 a.m. 662 So. Franklin St.\, Fort Bragg. Come buy good stuff and support our swim program!!
X-ALT-DESC;FMTTYPE=text/html:<p>Norvell"s\, will host the Mendocino Coast Sea Dragons "Parking lot Sale". Sat. March 28\, 9 a.m. 662 So. Franklin St.\, Fort Bragg. Come buy good stuff and support our swim program!!</p>
LOCATION:Norvell's Fort Bragg
UID:e.2883.514
SEQUENCE:3
DTSTAMP:20260422T150414Z
URL:https://mendocinocoast.com/events/details/mcsd-parking-lot-sale-02-12-2015-514
END:VEVENT

END:VCALENDAR
