BEGIN:VCALENDAR
VERSION:2.0
PRODID:-//ChamberMaster//Event Calendar 2.0//EN
METHOD:PUBLISH
X-PUBLISHED-TTL:P3D
REFRESH-INTERVAL:P3D
CALSCALE:GREGORIAN
BEGIN:VEVENT
DTSTART:20141011T190000Z
DTEND:20141012T010000Z
X-MICROSOFT-CDO-ALLDAYEVENT:FALSE
SUMMARY:MAPA World Championship Abalone Cook-Off & Festival
DESCRIPTION:This major fundraiser for Mendocino Area Parks Association is two events in one: 1) Abalone Cook-Off competition for the best abalone recipe. Ticket required to be a tasting judge for the competition. 2)Festival: Free to enter. Enjoy live music\, clam chowder\, wine tasting\, beer\, silent auction and craft fair.
X-ALT-DESC;FMTTYPE=text/html:<p>This major fundraiser for Mendocino Area Parks Association is two events in one: 1) Abalone Cook-Off competition for the best abalone recipe. Ticket required to be a tasting judge for the competition. 2)Festival: Free to enter. Enjoy live music\, clam chowder\, wine tasting\, beer\, silent auction and craft fair.</p>
LOCATION:The scenic Noyo Harbor\, South Harbor Drive\, Fort Bragg CA Mendocino
UID:e.2883.55
SEQUENCE:3
DTSTAMP:20260422T214858Z
URL:https://mendocinocoast.com/events/details/mapa-world-championship-abalone-cook-off-festival-10-11-2014-55
END:VEVENT

END:VCALENDAR
