BEGIN:VCALENDAR
VERSION:2.0
PRODID:-//ChamberMaster//Event Calendar 2.0//EN
METHOD:PUBLISH
X-PUBLISHED-TTL:P3D
REFRESH-INTERVAL:P3D
CALSCALE:GREGORIAN
BEGIN:VEVENT
DTSTART;VALUE=DATE:20160104
DTEND;VALUE=DATE:20160105
TRANSP:TRANSPARENT
X-MICROSOFT-CDO-ALLDAYEVENT:TRUE
SUMMARY:Making Space @ Oddfellows
DESCRIPTION:An Art Exhibit about Space to Share creative ideas and exploration. A Project of Flockworks.
X-ALT-DESC;FMTTYPE=text/html:<p>An Art Exhibit about Space to Share creative ideas and exploration. A Project of Flockworks.</p>
LOCATION:Oddfellows Hall Mendocino
UID:e.2883.821
SEQUENCE:3
DTSTAMP:20260421T205831Z
URL:https://mendocinocoast.com/events/details/making-space-oddfellows-01-04-2016-821
END:VEVENT

END:VCALENDAR
