BEGIN:VCALENDAR
VERSION:2.0
PRODID:-//ChamberMaster//Event Calendar 2.0//EN
METHOD:PUBLISH
X-PUBLISHED-TTL:P3D
REFRESH-INTERVAL:P3D
CALSCALE:GREGORIAN
BEGIN:VEVENT
DTSTART:20150128T040000Z
DTEND:20150128T060000Z
X-MICROSOFT-CDO-ALLDAYEVENT:FALSE
SUMMARY:Magical Night Time Tour of Point Arena Lighthouse
DESCRIPTION:Tour scheduled to coordinate with the full moon on Tuesday\, February 3.\nCost of admission includes light refreshments and complimentary champgne flute with lighthouse logo.Gate opens at 7 pm\, tour starts at 7:30 pm. Cost is $30 per person or $50 for two.\nReservations required\; for more information and to make reservations call 882-2809\, or visitÂ www.pointarenalighthouse.com
X-ALT-DESC;FMTTYPE=text/html:<p>Tour scheduled to coordinate with the full moon on Tuesday\, February 3.<br />Cost of admission includes light refreshments and complimentary champgne flute with lighthouse logo.</p><p>Gate opens at 7 pm\, tour starts at 7:30 pm. Cost is $30 per person or $50 for two.<br />Reservations required\; for more information and to make reservations call 882-2809\, or visitÂ <a href="http://www.pointarenalighthouse.com" target="_blank">www.pointarenalighthouse.com</a></p>
LOCATION:Point Arena Lighthouse
UID:e.2883.463
SEQUENCE:3
DTSTAMP:20260422T164041Z
URL:https://mendocinocoast.com/events/details/magical-night-time-tour-of-point-arena-lighthouse-01-27-2015-463
END:VEVENT

END:VCALENDAR
