BEGIN:VCALENDAR
VERSION:2.0
PRODID:-//ChamberMaster//Event Calendar 2.0//EN
METHOD:PUBLISH
X-PUBLISHED-TTL:P3D
REFRESH-INTERVAL:P3D
CALSCALE:GREGORIAN
BEGIN:VEVENT
DTSTART;VALUE=DATE:20141115
DTEND;VALUE=DATE:20141116
TRANSP:TRANSPARENT
X-MICROSOFT-CDO-ALLDAYEVENT:TRUE
SUMMARY:MacKerricher Nature Walks
DESCRIPTION:Join California State Parks and the Mendocino Area Parks Association for\na Nature Walk at MacKerricher State Park. Park Interpreter Fred Andrews will\nlead a natural history walk at Lake Cleone. Learn about some of the interesting\nbirds and plants at the park. Binoculars will be available for bird watching. Program begins at Lake Cleone parking lot.
X-ALT-DESC;FMTTYPE=text/html:<p><span style="line-height:115%\;font-family:Arial\, &quot\;sans-serif&quot\;\;font-size:12pt\;">Join California State Parks and the Mendocino Area Parks Association for<br />a Nature Walk at MacKerricher State Park. Park Interpreter Fred Andrews will<br />lead a natural history walk at Lake Cleone. Learn about some of the interesting<br />birds and plants at the park. Binoculars will be available for bird watching. Program begins at Lake Cleone parking lot.</span></p>
LOCATION:MacKerricher State Park Fort bragg
UID:e.2883.376
SEQUENCE:3
DTSTAMP:20260422T195630Z
URL:https://mendocinocoast.com/events/details/mackerricher-nature-walks-11-15-2014-376
END:VEVENT

END:VCALENDAR
