BEGIN:VCALENDAR
VERSION:2.0
PRODID:-//ChamberMaster//Event Calendar 2.0//EN
METHOD:PUBLISH
X-PUBLISHED-TTL:P3D
REFRESH-INTERVAL:P3D
CALSCALE:GREGORIAN
BEGIN:VEVENT
DTSTART:20140329T130000Z
DTEND:20140329T160000Z
X-MICROSOFT-CDO-ALLDAYEVENT:FALSE
SUMMARY:MacCallum House Winemaker's Dinner with Bink Wines
DESCRIPTION:Thursday\, April 24\, 2014 6:00 PM A benefit for Mendocino Music Festival A delicious gourmet dining experience awaits you at the Festivalâ€™s annual MacCallum House Winemakerâ€™s Dinner\, featuring Binkâ€™s acclaimed artisan wines\, handcrafted in small lots of sustainably grown fruit from premier vineyards in the hills of the Yorkville Highlands of Mendocino County. More information and to reserve your seat at the table: www.MendocinoMusic.org\, 707 937-2044.  An all-inclusive bargain at $100\, the evening includes hors dâ€™oeuvres and wine at 6:00\, followed by dinner with wine at 7:00.  MENU: Hors dâ€™oeuvres paired with 2012 Lumineux Rose.  Steamed clams\, snap peas\, leeks\, bacon paired with 2012 Sauvignon Blanc\, Randle Hill Vineyard.  Wild Mushroom risotto\, duck confit\, pinot noir gastrique paired with 2009 Pinot Noir\, Weir Vineyard.  Rack of Lamb\, walnut crust\, cabernet glazed shallots\, served with a salad of arugula\, cherry\, and Point Reyes Blue Cheese paired with 2009 Cabernet Sauvignon\, Old Chatham Ranch Vineyard.  Chocolate Budino\, vanilla bean ice cream\, salted caramel sauce.  Vegetarian and gluten free options available by prior arrangement. Call 707 937-2044 by April 17.
X-ALT-DESC;FMTTYPE=text/html:<p>Thursday\, April 24\, 2014 6:00 PM A benefit for<strong> Mendocino Music Festival</strong> A delicious gourmet dining experience awaits you at the Festivalâ€™s annual MacCallum House Winemakerâ€™s Dinner\, featuring <strong>Binkâ€™s</strong> acclaimed artisan wines\, handcrafted in small lots of sustainably grown fruit from premier vineyards in the hills of the Yorkville Highlands of Mendocino County. More information and to reserve your seat at the table: www.MendocinoMusic.org\, 707 937-2044.  An all-inclusive bargain at $100\, the evening includes hors dâ€™oeuvres and wine at 6:00\, followed by dinner with wine at 7:00.  MENU: Hors dâ€™oeuvres paired with 2012 Lumineux Rose.  Steamed clams\, snap peas\, leeks\, bacon paired with 2012 Sauvignon Blanc\, Randle Hill Vineyard.  Wild Mushroom risotto\, duck confit\, pinot noir gastrique paired with 2009 Pinot Noir\, Weir Vineyard.  Rack of Lamb\, walnut crust\, cabernet glazed shallots\, served with a salad of arugula\, cherry\, and Point Reyes Blue Cheese paired with 2009 Cabernet Sauvignon\, Old Chatham Ranch Vineyard.  Chocolate Budino\, vanilla bean ice cream\, salted caramel sauce.  Vegetarian and gluten free options available by prior arrangement. Call 707 937-2044 by April 17.</p>
LOCATION:MacCallum House Restaurant Mendocino
UID:e.2883.190
SEQUENCE:3
DTSTAMP:20260423T113740Z
URL:https://mendocinocoast.com/events/details/maccallum-house-winemaker-s-dinner-with-bink-wines-03-29-2014-190
END:VEVENT

END:VCALENDAR
