BEGIN:VCALENDAR
VERSION:2.0
PRODID:-//ChamberMaster//Event Calendar 2.0//EN
METHOD:PUBLISH
X-PUBLISHED-TTL:P3D
REFRESH-INTERVAL:P3D
CALSCALE:GREGORIAN
BEGIN:VEVENT
DTSTART;VALUE=DATE:20140910
DTEND;VALUE=DATE:20140911
TRANSP:TRANSPARENT
X-MICROSOFT-CDO-ALLDAYEVENT:TRUE
SUMMARY:MacCallum House Dine-Out
DESCRIPTION:Support the Mendocino Music Festival by treating yourself to a sumptuous meal! The MacCallum House Inn and Restaurant will donate all proceeds from this evening to the Festival. The MacCallum House offers delectable dishes of organic\, sustainable\, and locally-sourced foods. You can complement these delightful seasonal meals with handcrafted cocktails and selections from their celebrated wine list. The Grey Whale Bar opens at 5 pm\, and dinner is served from 5:30 to 8:30. Reserve online atÂ maccallumhouse.comÂ or by phone (707) 937-0289.
X-ALT-DESC;FMTTYPE=text/html:<p>Support the Mendocino Music Festival by treating yourself to a sumptuous meal! The MacCallum House Inn and Restaurant will donate all proceeds from this evening to the Festival. The MacCallum House offers delectable dishes of organic\, sustainable\, and locally-sourced foods. You can complement these delightful seasonal meals with handcrafted cocktails and selections from their celebrated wine list. The Grey Whale Bar opens at 5 pm\, and dinner is served from 5:30 to 8:30. Reserve online atÂ maccallumhouse.comÂ or by phone (707) 937-0289.</p>
LOCATION:MacCallum House Mendocino
UID:e.2883.327
SEQUENCE:3
DTSTAMP:20260422T232008Z
URL:https://mendocinocoast.com/events/details/maccallum-house-dine-out-09-10-2014-327
END:VEVENT

END:VCALENDAR
