BEGIN:VCALENDAR
VERSION:2.0
PRODID:-//ChamberMaster//Event Calendar 2.0//EN
METHOD:PUBLISH
X-PUBLISHED-TTL:P3D
REFRESH-INTERVAL:P3D
CALSCALE:GREGORIAN
BEGIN:VEVENT
DTSTART:20150825T190200Z
DTEND:20150825T231300Z
X-MICROSOFT-CDO-ALLDAYEVENT:FALSE
SUMMARY:Logging Show
DESCRIPTION:Get ready\, here it comes â€“ the action-packed Paul Bunyan Days Logging Show\, always held the Sunday of Labor Day weekend.Men and women who live in Mendocino\, Humboldt and Lake County compete for more than $7\,000 in prize money!Other contests include:Axe Throw\nSingle Buck Handsaw\nObstacle Pole Powersaw\nJack and Jill Handsaw\nChoker Setting\nDouble Buck Handsaw\nSingle Jill Handsaw\nStock Chainsaw Bucking\nJill and Jill Handsaw\nHorizontal Hand Chopping\nPole Climb
X-ALT-DESC;FMTTYPE=text/html:<p>Get ready\, here it comes â€“ the action-packed Paul Bunyan Days Logging Show\, always held the Sunday of Labor Day weekend.</p><p>Men and women who live in Mendocino\, Humboldt and Lake County compete for more than $7\,000 in prize money!</p><p>Other contests include:</p><p>Axe Throw<br />Single Buck Handsaw<br />Obstacle Pole Powersaw<br />Jack and Jill Handsaw<br />Choker Setting<br />Double Buck Handsaw<br />Single Jill Handsaw<br />Stock Chainsaw Bucking<br />Jill and Jill Handsaw<br />Horizontal Hand Chopping<br />Pole Climb</p>
LOCATION:Todds Point Fort Bragg
UID:e.2883.712
SEQUENCE:3
DTSTAMP:20260422T050003Z
URL:https://mendocinocoast.com/events/details/logging-show-08-25-2015-712
END:VEVENT

END:VCALENDAR
