BEGIN:VCALENDAR
VERSION:2.0
PRODID:-//ChamberMaster//Event Calendar 2.0//EN
METHOD:PUBLISH
X-PUBLISHED-TTL:P3D
REFRESH-INTERVAL:P3D
CALSCALE:GREGORIAN
BEGIN:VEVENT
DTSTART:20150220T040000Z
DTEND:20150220T070000Z
X-MICROSOFT-CDO-ALLDAYEVENT:FALSE
SUMMARY:Live music @ Headlands Coffeehouse
DESCRIPTION:Dorian May Piano Trio\nHeadlands Coffeehouse120 Laurel Street\, Fort Bragg\, CA 95437 United States\nPhone:707-964-1987Website:http://www.headlandscoffeehouse.com
X-ALT-DESC;FMTTYPE=text/html:<p><dd>Dorian May Piano Trio</dd><dd><br /></dd><dd><a href="http://www.kozt.com/venue/headlands-coffeehouse/" target="_blank">Headlands Coffeehouse</a></dd><dd><address><span><span>120 Laurel Street</span><span>\,</span> <span>Fort Bragg</span><span>\,</span> <abbr title="California">CA</abbr> <span>95437</span> <span>United States</span></span></address><br /></dd><dt>Phone:</dt><dd>707-964-1987</dd><dt>Website:</dt><dd><a href="http://www.headlandscoffeehouse.com/" target="_blank">http://www.headlandscoffeehouse.com</a></dd></p>
LOCATION:Headlands Coffeehouse Fort Bragg\, CA
UID:e.2883.545
SEQUENCE:3
DTSTAMP:20260422T151047Z
URL:https://mendocinocoast.com/events/details/live-music-headlands-coffeehouse-02-19-2015-545
END:VEVENT

END:VCALENDAR
