BEGIN:VCALENDAR
VERSION:2.0
PRODID:-//ChamberMaster//Event Calendar 2.0//EN
METHOD:PUBLISH
X-PUBLISHED-TTL:P3D
REFRESH-INTERVAL:P3D
CALSCALE:GREGORIAN
BEGIN:VEVENT
DTSTART:20150220T040100Z
DTEND:20150220T070100Z
X-MICROSOFT-CDO-ALLDAYEVENT:FALSE
SUMMARY:Live music @ Headlands Coffeehouse
DESCRIPTION:TheÂ John Gilmore Trio (Jazz Piano\, Bass\, Drums) -- 7 PM
X-ALT-DESC;FMTTYPE=text/html:<p>TheÂ <a href="http://www.johngilmorejazz.com/">John Gilmore</a> Trio (Jazz Piano\, Bass\, Drums) -- 7 PM</p>
LOCATION:Headlands Coffeehouse Fort Bragg\, CA
UID:e.2883.544
SEQUENCE:3
DTSTAMP:20260422T151053Z
URL:https://mendocinocoast.com/events/details/live-music-headlands-coffeehouse-02-19-2015-544
END:VEVENT

END:VCALENDAR
