BEGIN:VCALENDAR
VERSION:2.0
PRODID:-//ChamberMaster//Event Calendar 2.0//EN
METHOD:PUBLISH
X-PUBLISHED-TTL:P3D
REFRESH-INTERVAL:P3D
CALSCALE:GREGORIAN
BEGIN:VEVENT
DTSTART:20150128T040000Z
DTEND:20150128T070000Z
X-MICROSOFT-CDO-ALLDAYEVENT:FALSE
SUMMARY:Live Music @ Headlands Coffeehouse
DESCRIPTION:The Mixed Nuts @ Headlands Coffeehouse.120 Laurel Street\, Fort Bragg\, CA 95437United StatesPhone:Â 707-964-1987Website:http://www.headlandscoffeehouse.com
X-ALT-DESC;FMTTYPE=text/html:<p>The Mixed Nuts @ Headlands Coffeehouse.</p><p><span style="font-style: italic\;"><span>120 Laurel Street</span><span>\,</span> <span>Fort Bragg</span><span>\,</span> <abbr title="California">CA</abbr> <span>95437</span><span>United States</span></span></p><p><dt>Phone:Â 707-964-1987</dt><dt>Website:<a href="http://www.headlandscoffeehouse.com/" target="_blank">http://www.headlandscoffeehouse.com</a></dt></p>
LOCATION:Headlands Coffeehouse Fort Bragg\, CA
UID:e.2883.478
SEQUENCE:3
DTSTAMP:20260422T182042Z
URL:https://mendocinocoast.com/events/details/live-music-headlands-coffeehouse-01-27-2015-478
END:VEVENT

END:VCALENDAR
