BEGIN:VCALENDAR
VERSION:2.0
PRODID:-//ChamberMaster//Event Calendar 2.0//EN
METHOD:PUBLISH
X-PUBLISHED-TTL:P3D
REFRESH-INTERVAL:P3D
CALSCALE:GREGORIAN
BEGIN:VEVENT
DTSTART:20150128T040100Z
DTEND:20150128T070000Z
X-MICROSOFT-CDO-ALLDAYEVENT:FALSE
SUMMARY:Live music @ Headlands Coffeehouse
DESCRIPTION:Tom Norris & his Washburn Guitar at Headlands Coffeehouse\, 120 Laurel Street\, Fort Bragg.Call 707-964-1987 or go to www.headlandscoffeehouse.com for more information
X-ALT-DESC;FMTTYPE=text/html:<p>Tom Norris &amp\; his Washburn Guitar at Headlands Coffeehouse\, 120 Laurel Street\, Fort Bragg.</p><p>Call 707-964-1987 or go to www.headlandscoffeehouse.com for more information</p>
LOCATION:Headlands Coffeehouse Fort Bragg\, CA
UID:e.2883.472
SEQUENCE:3
DTSTAMP:20260422T182048Z
URL:https://mendocinocoast.com/events/details/live-music-headlands-coffeehouse-01-27-2015-472
END:VEVENT

END:VCALENDAR
