BEGIN:VCALENDAR
VERSION:2.0
PRODID:-//ChamberMaster//Event Calendar 2.0//EN
METHOD:PUBLISH
X-PUBLISHED-TTL:P3D
REFRESH-INTERVAL:P3D
CALSCALE:GREGORIAN
BEGIN:VEVENT
DTSTART:20141231T040000Z
DTEND:20141231T070000Z
X-MICROSOFT-CDO-ALLDAYEVENT:FALSE
SUMMARY:Live music Headlands Coffee House
DESCRIPTION:Coast Celtic Band at the Headlands Coffeehouse
X-ALT-DESC;FMTTYPE=text/html:<p>Coast Celtic Band at the Headlands Coffeehouse</p>
LOCATION:Headlands Coffeehouse Fort Bragg CA
UID:e.2883.418
SEQUENCE:3
DTSTAMP:20260422T195330Z
URL:https://mendocinocoast.com/events/details/live-music-headlands-coffee-house-12-30-2014-418
END:VEVENT

END:VCALENDAR
