BEGIN:VCALENDAR
VERSION:2.0
PRODID:-//ChamberMaster//Event Calendar 2.0//EN
METHOD:PUBLISH
X-PUBLISHED-TTL:P3D
REFRESH-INTERVAL:P3D
CALSCALE:GREGORIAN
BEGIN:VEVENT
DTSTART:20151119T043000Z
DTEND:20151119T063000Z
X-MICROSOFT-CDO-ALLDAYEVENT:FALSE
SUMMARY:Live Acoustic Music
DESCRIPTION:Live acoustic music at Odd Fellows Hall in conjunction with the 10-day John Chamberlin Art Show and Sale benefit for MUSE and MCCF. Featured performers include Richard Fienburgh\, Lenny Laks\, Johnny Bush\, Stevie Gurr\, Ayn Ruymen\, Laura Jean Cardinal and special guests. Looking to bring forth some classic tunes that JC played ranging from Cat Mother\, Horse Badorties\, Â and The Whales. 7:30PM for music. $10 at the door to benefit MUSE and MCCF.\n\nThe gallery is open from Friday December 4 through Sunday December 13. Gallery hours are 12 - 6 Wednesdays\, Thursdays and Sundays and 12 - 9 on Friday and Saturday evenings.
X-ALT-DESC;FMTTYPE=text/html:<p><span style="font-family:arial\, helvetica\, sans-serif\;font-size:medium\;">Live acoustic music at Odd Fellows Hall in conjunction with the 10-day John Chamberlin Art Show and Sale benefit for MUSE and MCCF. Featured performers include Richard Fienburgh\, Lenny Laks\, Johnny Bush\, Stevie Gurr\, Ayn Ruymen\, Laura Jean Cardinal and special guests. Looking to bring forth some classic tunes that JC played ranging from Cat Mother\, Horse Badorties\, Â and The Whales. 7:30PM for music. $10 at the door to benefit MUSE and MCCF.</span><br /><br /><span style="font-family:arial\, helvetica\, sans-serif\;font-size:medium\;">The gallery is open from Friday December 4 through Sunday December 13. Gallery hours are 12 - 6 Wednesdays\, Thursdays and Sundays and 12 - 9 on Friday and Saturday evenings. </span></p>
LOCATION:Odd Fellows Hall Mendocino
UID:e.2883.793
SEQUENCE:3
DTSTAMP:20260422T000854Z
URL:https://mendocinocoast.com/events/details/live-acoustic-music-11-18-2015-793
END:VEVENT

END:VCALENDAR
