BEGIN:VCALENDAR
VERSION:2.0
PRODID:-//ChamberMaster//Event Calendar 2.0//EN
METHOD:PUBLISH
X-PUBLISHED-TTL:P3D
REFRESH-INTERVAL:P3D
CALSCALE:GREGORIAN
BEGIN:VEVENT
DTSTART;VALUE=DATE:20140818
DTEND;VALUE=DATE:20140819
TRANSP:TRANSPARENT
X-MICROSOFT-CDO-ALLDAYEVENT:TRUE
SUMMARY:Little River Whale Festival 2015
DESCRIPTION:Save the date\, the 2015 Little River Whale Festival will be March 14th & 15th\, with wine and food tasting on Saturday only. There will be docent-led whale-watching walks and exciting Sea Cave Kayak Tours (weather permitting).Â Visit www.mendowhale.com for more information as the event draws bear.
X-ALT-DESC;FMTTYPE=text/html:<p>Save the date\, the 2015 Little River Whale Festival will be March 14th &amp\; 15th\, with wine and food tasting on Saturday only. There will be docent-led whale-watching walks and exciting Sea Cave Kayak Tours (weather permitting).</p><p>Â </p><p>Visit <a href="http://www.mendowhale.com" target="_blank">www.mendowhale.com</a> for more information as the event draws bear.</p>
LOCATION:California Little River
UID:e.2883.312
SEQUENCE:3
DTSTAMP:20260423T011138Z
URL:https://mendocinocoast.com/events/details/little-river-whale-festival-2015-08-18-2014-312
END:VEVENT

END:VCALENDAR
