BEGIN:VCALENDAR
VERSION:2.0
PRODID:-//ChamberMaster//Event Calendar 2.0//EN
METHOD:PUBLISH
X-PUBLISHED-TTL:P3D
REFRESH-INTERVAL:P3D
CALSCALE:GREGORIAN
BEGIN:VEVENT
DTSTART;VALUE=DATE:20150611
DTEND;VALUE=DATE:20150612
TRANSP:TRANSPARENT
X-MICROSOFT-CDO-ALLDAYEVENT:TRUE
SUMMARY:Little River Whale Festival
DESCRIPTION:Little River Whale Festival fun!
X-ALT-DESC;FMTTYPE=text/html:<p>Little River Whale Festival fun!</p>
LOCATION:Little River
UID:e.2883.641
SEQUENCE:3
DTSTAMP:20260422T082659Z
URL:https://mendocinocoast.com/events/details/little-river-whale-festival-06-11-2015-641
END:VEVENT

END:VCALENDAR
