BEGIN:VCALENDAR
VERSION:2.0
PRODID:-//ChamberMaster//Event Calendar 2.0//EN
METHOD:PUBLISH
X-PUBLISHED-TTL:P3D
REFRESH-INTERVAL:P3D
CALSCALE:GREGORIAN
BEGIN:VEVENT
DTSTART:20140227T213600Z
DTEND:20140227T203600Z
X-MICROSOFT-CDO-ALLDAYEVENT:FALSE
SUMMARY:Little Cardinals Basketball Camp
DESCRIPTION:Little Cardinals Basketball Camp. Sat March 1 to April 12 2014 @ the Mendocino K-8 Gym for Boys and Girls. K-7 yrs 9 - 10:30\, 8-9 yrs 10:30 - noon\, 10 - 12 yrs noon - 1:30. Signups have begun. at Community Center of Mendocino. Call 937-4133 for further information
X-ALT-DESC;FMTTYPE=text/html:<p>Little Cardinals Basketball Camp. Sat March 1 to April 12 2014 @ the Mendocino K-8 Gym for Boys and Girls. K-7 yrs 9 - 10:30\, 8-9 yrs 10:30 - noon\, 10 - 12 yrs noon - 1:30. Signups have begun. at Community Center of Mendocino. Call 937-4133 for further information</p>
LOCATION:Community Center of Mendocino
UID:e.2883.160
SEQUENCE:3
DTSTAMP:20260423T145437Z
URL:https://mendocinocoast.com/events/details/little-cardinals-basketball-camp-02-27-2014-160
END:VEVENT

END:VCALENDAR
