BEGIN:VCALENDAR
VERSION:2.0
PRODID:-//ChamberMaster//Event Calendar 2.0//EN
METHOD:PUBLISH
X-PUBLISHED-TTL:P3D
REFRESH-INTERVAL:P3D
CALSCALE:GREGORIAN
BEGIN:VEVENT
DTSTART;VALUE=DATE:20150302
DTEND;VALUE=DATE:20150303
TRANSP:TRANSPARENT
X-MICROSOFT-CDO-ALLDAYEVENT:TRUE
SUMMARY:Lip Reading and Listening Skills Seminar
DESCRIPTION:YOU'RE INVITED to an educational seminar hosted by Audiology Associates!Dr. Peter Marincovich\, theÂ  practice owner and Director of Audiology Services\, will be presenting information on how we hear\, factors contributing to your listening experience\, and much more. Helpful tips for lip reading that will assist people of all ages in active listening and effective communication. This informative seminar is open to the public!Plan to attend this event at the Mendocino Community College\, Fort Bragg Campus\, on Del Mar Drive from 5:30pm to 7 pm\, Wednesday March 18th. Again\, listen up! Wednesday March 18th at the Mendocino Community College Campus in Fort Bragg 5:30pm Â to 7 pm. For more information call 998-5363. That's 998-5363. A listening skills seminar hosted by Audiology Associates.
X-ALT-DESC;FMTTYPE=text/html:<p>YOU'RE INVITED to an educational seminar hosted by Audiology Associates!</p><p>Dr. Peter Marincovich\, theÂ  practice owner and Director of Audiology Services\, will be presenting information on how we hear\, factors contributing to your listening experience\, and much more. Helpful tips for lip reading that will assist people of all ages in active listening and effective communication. This informative seminar is open to the public!</p><p>Plan to attend this event at the Mendocino Community College\, Fort Bragg Campus\, on Del Mar Drive from 5:30pm to 7 pm\, Wednesday March 18th. Again\, listen up! Wednesday March 18th at the Mendocino Community College Campus in Fort Bragg 5:30pm Â to 7 pm. For more information call 998-5363. That's 998-5363. A listening skills seminar hosted by Audiology Associates.</p>
LOCATION:Mendocino College Fort Bragg
UID:e.2883.556
SEQUENCE:3
DTSTAMP:20260422T150850Z
URL:https://mendocinocoast.com/events/details/lip-reading-and-listening-skills-seminar-03-02-2015-556
END:VEVENT

END:VCALENDAR
