BEGIN:VCALENDAR
VERSION:2.0
PRODID:-//ChamberMaster//Event Calendar 2.0//EN
METHOD:PUBLISH
X-PUBLISHED-TTL:P3D
REFRESH-INTERVAL:P3D
CALSCALE:GREGORIAN
BEGIN:VEVENT
DTSTART:20150728T170000Z
DTEND:20150728T230000Z
X-MICROSOFT-CDO-ALLDAYEVENT:FALSE
SUMMARY:Lighthouse Lens Tours and Benefit for Clayton Fire Relief
DESCRIPTION:Another Lens Tour!   The Point Cabrillo Lightkeepers Association and the US Coast Guard Auxiliary Flotilla 87 are sponsoringÂ an additionalÂ day ofÂ Lantern Room and Lens Tours to benefit the Clayton Fire Relief.Â  The date isÂ Saturday\,Â October 22nd from 10 a.m. to 4 p.m.\, at Point Cabrillo Light Station State Historic Park. The Coast Guard Auxiliary Flotilla 87\, the modern light keepers and volunteers lead the tours.Â Â Admission is $5.Â  Children must be at least 42 inches tall to participate in the tours. No reservations are necessary. For more information leave a message atÂ 937-6123.
X-ALT-DESC;FMTTYPE=text/html:<p><span>Another Lens Tour!   The Point Cabrillo Lightkeepers Association and the US Coast Guard Auxiliary Flotilla 87 are sponsoringÂ an additionalÂ day ofÂ Lantern Room and Lens Tours to benefit the Clayton Fire Relief.Â  The date isÂ Saturday\,Â October 22nd from 10 a.m. to 4 p.m.\, at Point Cabrillo Light Station State Historic Park. The Coast Guard Auxiliary Flotilla 87\, the modern light keepers and volunteers lead the tours.Â Â Admission is $5.Â  Children must be at least 42 inches tall to participate in the tours. No reservations are necessary. For more information leave a message atÂ 937-6123.</span></p>
LOCATION:Point Cabrillo Light Station State Historic Park Mendocino
UID:e.2883.693
SEQUENCE:3
DTSTAMP:20260422T064637Z
URL:https://mendocinocoast.com/events/details/lighthouse-lens-tours-and-benefit-for-clayton-fire-relief-07-28-2015-693
END:VEVENT

END:VCALENDAR
