BEGIN:VCALENDAR
VERSION:2.0
PRODID:-//ChamberMaster//Event Calendar 2.0//EN
METHOD:PUBLISH
X-PUBLISHED-TTL:P3D
REFRESH-INTERVAL:P3D
CALSCALE:GREGORIAN
BEGIN:VEVENT
DTSTART:20150922T170000Z
DTEND:20150922T230000Z
X-MICROSOFT-CDO-ALLDAYEVENT:FALSE
SUMMARY:Lighthouse Lantern Room & Lens Tours
DESCRIPTION:Saturday\, Sept. 26\, 2015Â  10 a.m. - 4 p.m. Please join the Coast Guard Auxiliary Flotilla 87\, our modern light keepers\, and the volunteers at Point Cabrillo Light Station State Historic Park for a unique opportunity to visit the lantern room and the beautifully restored operational third order Fresnel lens. These tours are offered only eight days each year. There is a modest fee of $5.00Â supports the lighthouse maintenance fund. Children must be at least 42 inches tall.For additional information please callÂ 707/937-6122.
X-ALT-DESC;FMTTYPE=text/html:<p><span><span><strong><span><span>Saturday\, Sept. 26\, 2015Â  10 a.m. - 4 p.m.</span></span></strong></span></span></p><p><span><span><span> Please join the Coast Guard Auxiliary Flotilla 87\, our modern light keepers\, and the volunteers at Point Cabrillo Light Station State Historic Park for a unique opportunity to visit the lantern room and the beautifully restored operational third order Fresnel lens. These tours are offered only eight days each year. There is a modest fee of $5.00Â supports the lighthouse maintenance fund. Children must be at least 42 inches tall.</span></span></span></p><p><span><span><span>For additional information please callÂ <a target="_blank">707/937-6122</a>.</span></span></span></p>
LOCATION:Point Cabrillo Light Station State Historic Park Mendocino
UID:e.2883.736
SEQUENCE:3
DTSTAMP:20260422T034123Z
URL:https://mendocinocoast.com/events/details/lighthouse-lantern-room-lens-tours-09-22-2015-736
END:VEVENT

END:VCALENDAR
