BEGIN:VCALENDAR
VERSION:2.0
PRODID:-//ChamberMaster//Event Calendar 2.0//EN
METHOD:PUBLISH
X-PUBLISHED-TTL:P3D
REFRESH-INTERVAL:P3D
CALSCALE:GREGORIAN
BEGIN:VEVENT
DTSTART;VALUE=DATE:20141111
DTEND;VALUE=DATE:20141112
TRANSP:TRANSPARENT
X-MICROSOFT-CDO-ALLDAYEVENT:TRUE
SUMMARY:Light Up A Life
DESCRIPTION:Mendocino Coast Hospice Memory Tree Lighting CeremonyDecember 13\, 2014 @ 4pm
X-ALT-DESC;FMTTYPE=text/html:<p><span style="color:#800000\;">Mendocino Coast Hospice Memory Tree Lighting Ceremony</span></p><p><span style="color:#800000\;">December 13\, 2014 @ 4pm</span></p>
LOCATION:Coast Hospital Registration Lobby Fort Bragg\, California
UID:e.2883.374
SEQUENCE:3
DTSTAMP:20260422T195722Z
URL:https://mendocinocoast.com/events/details/light-up-a-life-11-11-2014-374
END:VEVENT

END:VCALENDAR
