BEGIN:VCALENDAR
VERSION:2.0
PRODID:-//ChamberMaster//Event Calendar 2.0//EN
METHOD:PUBLISH
X-PUBLISHED-TTL:P3D
REFRESH-INTERVAL:P3D
CALSCALE:GREGORIAN
BEGIN:VEVENT
DTSTART:20140418T210000Z
DTEND:20140418T223000Z
X-MICROSOFT-CDO-ALLDAYEVENT:FALSE
SUMMARY:Legends of Country Rock: Chris Hillman and Herb Pederson at Mendocino Music Festivall
DESCRIPTION:Chris Hillman and Herb Pedersen: Legends of Country RockSunday\, July 20\, 2014\, 2:00 PMTent Concert Hall - overlooking the Pacific Ocean.Chris Hillman\, formerly of the Byrds and the Flying Burrito Brothers\, teams up with his buddy Herb Pedersen from the Desert Rose Band to play their own blend of bluegrass\, folk\, and country music.  They have the superb blend and easy interchange that only long-time friends can achieve.  They can play nearly any instrument you could throw at them and will give you a good\, rocking country time.Mendocino Music Festival runs July 12 - 26.
X-ALT-DESC;FMTTYPE=text/html:Chris Hillman and Herb Pedersen: Legends of Country RockSunday\, July 20\, 2014\, 2:00 PMTent Concert Hall - overlooking the Pacific Ocean.Chris Hillman\, formerly of the Byrds and the Flying Burrito Brothers\, teams up with his buddy Herb Pedersen from the Desert Rose Band to play their own blend of bluegrass\, folk\, and country music.  They have the superb blend and easy interchange that only long-time friends can achieve.  They can play nearly any instrument you could throw at them and will give you a good\, rocking country time.Mendocino Music Festival runs July 12 - 26.
LOCATION:16\,000 square foot Tent Performance Hall Mendocino
UID:e.2883.222
SEQUENCE:3
DTSTAMP:20260423T100731Z
URL:https://mendocinocoast.com/events/details/legends-of-country-rock-chris-hillman-and-herb-pederson-at-mendocino-music-festivall-04-18-2014-222
END:VEVENT

END:VCALENDAR
