BEGIN:VCALENDAR
VERSION:2.0
PRODID:-//ChamberMaster//Event Calendar 2.0//EN
METHOD:PUBLISH
X-PUBLISHED-TTL:P3D
REFRESH-INTERVAL:P3D
CALSCALE:GREGORIAN
BEGIN:VEVENT
DTSTART:20141231T043100Z
DTEND:20141231T085500Z
X-MICROSOFT-CDO-ALLDAYEVENT:FALSE
SUMMARY:Ledford House New Year's Eve Blues\, Soul\, Funk Dance
DESCRIPTION:Dance to Blues\, Soul and Funk with AMANDA GRAY & THE SHADES\nMusic starts at 10 p.m.\n$20 at the door\nLedford House\n707.937.0282\; Ledford@mcn.org\n3000 N. Highway One\, Albion\, CA 95410http://www.ledfordhouse.com/
X-ALT-DESC;FMTTYPE=text/html:<p>Dance to Blues\, Soul and Funk with AMANDA GRAY &amp\; THE SHADES<br />Music starts at 10 p.m.<br />$20 at the door<br />Ledford House<br />707.937.0282\; Ledford@mcn.org<br />3000 N. Highway One\, Albion\, CA 95410</p><p>http://www.ledfordhouse.com/</p>
LOCATION:Ledford House Albion
UID:e.2883.422
SEQUENCE:3
DTSTAMP:20260422T182528Z
URL:https://mendocinocoast.com/events/details/ledford-house-new-year-s-eve-blues-soul-funk-dance-12-30-2014-422
END:VEVENT

END:VCALENDAR
