BEGIN:VCALENDAR
VERSION:2.0
PRODID:-//ChamberMaster//Event Calendar 2.0//EN
METHOD:PUBLISH
X-PUBLISHED-TTL:P3D
REFRESH-INTERVAL:P3D
CALSCALE:GREGORIAN
BEGIN:VEVENT
DTSTART;VALUE=DATE:20150203
DTEND;VALUE=DATE:20150204
TRANSP:TRANSPARENT
X-MICROSOFT-CDO-ALLDAYEVENT:TRUE
SUMMARY:Laughing Yoga
DESCRIPTION:Certified Laughing Yoga instructor offers free Laughing Yoga in the Watertower Gallery! 611 Albion @ Kasten\, Mendocino.Every Sunday from 6:00 - 6:30 pm. Call 707-937-5664 for more information.LAUGH for JOY\nLAUGH for FUN\nLAUGH for HEALTHLAUGH for NO REASON\nLAUGH to increase Oxygen intake\nLAUGH to breathe\nLAUGH to LIVEMendocino Amusent club
X-ALT-DESC;FMTTYPE=text/html:<p>Certified Laughing Yoga instructor offers free Laughing Yoga in the Watertower Gallery! 611 Albion @ Kasten\, Mendocino.</p><p>Every Sunday from 6:00 - 6:30 pm. Call 707-937-5664 for more information.</p><p>LAUGH for JOY<br />LAUGH for FUN<br />LAUGH for HEALTH</p><p>LAUGH for NO REASON<br />LAUGH to increase Oxygen intake<br />LAUGH to breathe<br />LAUGH to LIVE</p><p>Mendocino Amusent club</p>
LOCATION:Watertower Gallery Mendocino\, CA
UID:e.2883.493
SEQUENCE:3
DTSTAMP:20260422T150259Z
URL:https://mendocinocoast.com/events/details/laughing-yoga-02-03-2015-493
END:VEVENT

END:VCALENDAR
