BEGIN:VCALENDAR
VERSION:2.0
PRODID:-//ChamberMaster//Event Calendar 2.0//EN
METHOD:PUBLISH
X-PUBLISHED-TTL:P3D
REFRESH-INTERVAL:P3D
CALSCALE:GREGORIAN
BEGIN:VEVENT
DTSTART:20150130T220000Z
DTEND:20150131T000000Z
X-MICROSOFT-CDO-ALLDAYEVENT:FALSE
SUMMARY:Landscaping for Birds and Beneficial Insects
DESCRIPTION:Internationally acclaimed landscape designer Kate Frey will discuss plants that will attract birds\, bees and otehr beneficial insects to your garden. Free admission. 1-3 pm at Mendocino Coast Botanical Gardens\, 18220 N. Hway 1\, Fort Bragg.Call 707-964-4352 x 12 or go to www.gardenbythesea.org for more information.
X-ALT-DESC;FMTTYPE=text/html:<p>Internationally acclaimed landscape designer Kate Frey will discuss plants that will attract birds\, bees and otehr beneficial insects to your garden. Free admission. 1-3 pm at Mendocino Coast Botanical Gardens\, 18220 N. Hway 1\, Fort Bragg.</p><p>Call 707-964-4352 x 12 or go to www.gardenbythesea.org for more information.</p>
LOCATION:Mendocino Coast Botanical Gardens Fort Bragg CA
UID:e.2883.485
SEQUENCE:3
DTSTAMP:20260422T163841Z
URL:https://mendocinocoast.com/events/details/landscaping-for-birds-and-beneficial-insects-01-30-2015-485
END:VEVENT

END:VCALENDAR
