BEGIN:VCALENDAR
VERSION:2.0
PRODID:-//ChamberMaster//Event Calendar 2.0//EN
METHOD:PUBLISH
X-PUBLISHED-TTL:P3D
REFRESH-INTERVAL:P3D
CALSCALE:GREGORIAN
BEGIN:VEVENT
DTSTART:20151215T043000Z
DTEND:20151215T063000Z
X-MICROSOFT-CDO-ALLDAYEVENT:FALSE
SUMMARY:Lafe Crick - Americana and Bluegrass
DESCRIPTION:LÄfe CrÄ­ck is an Americana band from the Mendocino Coast of Northern California made up of veteran performing musicians\, mostly from the bluegrass world with glorious harmonies\, combining influences as diverse as Bill Monroe\, Bob Wills\, Cake\, David Grisman\, Townes Van Zandt\, John Hartford\, Jeff Beck\, the Grateful Dead\, Wayne Hancock\, and the Rolling Stones. Click on this link to hear some of their music. Hear LÄfe CrÄ­ck on Soundcloud: https://soundcloud.com/lafecrick\n\nMembers of the band are: Ryan Kroll (mandolin\, guitar\, lead and harmony vocals)\, Joey Goforth (banjo\, lead and harmony vocals)\, Lee Rider (dobro and guitar) and Peter Temple (bass).\n\nDoors open at 6PM for casual dining and full bar\, Music at 7:30PM. $10 at the door. 937-0554
X-ALT-DESC;FMTTYPE=text/html:<p><span style="font-family:arial\, helvetica\, sans-serif\;font-size:medium\;">LÄfe CrÄ­ck is an Americana band from the Mendocino Coast of Northern California made up of veteran performing musicians\, mostly from the bluegrass world with glorious harmonies\, combining influences as diverse as Bill Monroe\, Bob Wills\, Cake\, David Grisman\, Townes Van Zandt\, John Hartford\, Jeff Beck\, the Grateful Dead\, Wayne Hancock\, and the Rolling Stones. Click on this link to hear some of their music. Hear LÄfe CrÄ­ck on Soundcloud: https://soundcloud.com/lafecrick</span><br /><br /><span style="font-family:arial\, helvetica\, sans-serif\;font-size:medium\;">Members of the band are: Ryan Kroll (mandolin\, guitar\, lead and harmony vocals)\, Joey Goforth (banjo\, lead and harmony vocals)\, Lee Rider (dobro and guitar) and Peter Temple (bass).</span><br /><br /><span style="font-family:arial\, helvetica\, sans-serif\;font-size:medium\;">Doors open at 6PM for casual dining and full bar\, Music at 7:30PM. $10 at the door. 937-0554</span></p>
LOCATION:Hill House of Mendocino
UID:e.2883.811
SEQUENCE:3
DTSTAMP:20260421T223633Z
URL:https://mendocinocoast.com/events/details/lafe-crick-americana-and-bluegrass-12-14-2015-811
END:VEVENT

END:VCALENDAR
