BEGIN:VCALENDAR
VERSION:2.0
PRODID:-//ChamberMaster//Event Calendar 2.0//EN
METHOD:PUBLISH
X-PUBLISHED-TTL:P3D
REFRESH-INTERVAL:P3D
CALSCALE:GREGORIAN
BEGIN:VEVENT
DTSTART:20190521T170000Z
DTEND:20190422T010000Z
X-MICROSOFT-CDO-ALLDAYEVENT:FALSE
SUMMARY:Krenov School 2019 Graduation Show
DESCRIPTION:Graduating Krenov School students proudly present their fine woodworking at Partners Gallery May 18th  to May 27th. With one semester of excellent instruction under their belt\, this year's students have set out to push boundaries and explore exciting designs in their second semester projects. From curved and veneered works to chairs new and old\, the talent and craftsmanship of this year?s class will be on full display. \n\n\n\nFounded in 1981 by master cabinetmaker James Krenov\, The Krenov School is known far and wide for the refined works of its meticulous and ambitious graduates. Drawn in from all over the world\, a diverse array of students come for the opportunity to hone their skills and to dive deep into nuances of fine woodworking. This year marks an important milestone for the program with the most women representing it in its history?10 of the 22 students. We are excited and proud at the growth in interest and accessibility of the program to this demographic and hope only to expand on it. Come celebrate all the wonderful works with us!\n\n \n\nThere is a reception for the artists May 18th\, 5-8pm
X-ALT-DESC;FMTTYPE=text/html:<span style="color:#222222"><span style="font-family:arial\,sans-serif">Graduating Krenov School students proudly present their fine woodworking at Partners Gallery May 18<sup>th</sup>&nbsp\;&nbsp\;to May 27<sup>th</sup>. With one semester of excellent instruction under their belt\, this year&#39\;s students have set out to push boundaries and explore exciting designs in their second semester projects. From curved and veneered works to chairs new and old\, the talent and craftsmanship of this year?s class will be on full display.&nbsp\;</span></span><br />\n<br />\n<span style="color:#222222"><span style="font-family:arial\,sans-serif">Founded in 1981 by master cabinetmaker James Krenov\, The Krenov School is known far and wide for the refined works of its meticulous and ambitious graduates. Drawn in from all over the world\, a diverse array of students come for the opportunity to hone their skills and to dive deep into nuances of fine woodworking. This year marks an important milestone for the program with the most women representing it in its history?10 of the 22 students. We are excited and proud at the growth in interest and accessibility of the program to this demographic and hope only to expand on it. Come celebrate all the wonderful works with us!</span></span><br />\n&nbsp\;<br />\n<span style="color:#222222"><span style="font-family:arial\,sans-serif">There is a reception for the artists May 18<sup>th</sup>\, 5-8pm</span></span><br />\n<br />\n&nbsp\;
LOCATION:Partners Gallery 335 N. Franklin St Fort Bragg\, CA 95437
UID:e.2883.11431
SEQUENCE:3
DTSTAMP:20260422T222948Z
URL:https://mendocinocoast.com/events/details/krenov-school-2019-graduation-show-05-21-2019-11431
END:VEVENT

END:VCALENDAR
