BEGIN:VCALENDAR
VERSION:2.0
PRODID:-//ChamberMaster//Event Calendar 2.0//EN
METHOD:PUBLISH
X-PUBLISHED-TTL:P3D
REFRESH-INTERVAL:P3D
CALSCALE:GREGORIAN
BEGIN:VEVENT
DTSTART;VALUE=DATE:20151007
DTEND;VALUE=DATE:20151008
TRANSP:TRANSPARENT
X-MICROSOFT-CDO-ALLDAYEVENT:TRUE
SUMMARY:Knights of Columbus\, Mendocino\, Crab Feed
DESCRIPTION:All You Can Eat Crab Feed: Friday\, Jan. 29th & Saturday\, Jan. 30th.Attend the Biggest Crab Feed and evening of entertainment on the coast! All you can eat crab\, plus salad\, bread\, wine and dessert!Â  All this means you should get your tickets early = This event sells out both night\, every year. Live entertainment at 8\;00pm and the Grand Raffle at 9:00pmÂ  Tickets are $55.00Â  You may call Ed @ (707) 937-1293 or go to our web @ www.kcmendo.org You mail email Ed @ kccrabfeed@mcn.org
X-ALT-DESC;FMTTYPE=text/html:<p><strong><span style="font-size:small\;">All You Can Eat Crab Feed: Friday\, Jan. 29th &amp\; Saturday\, Jan. 30th.</span></strong></p><p><span style="font-size:small\;"><span style="font-size:x-small\;">Attend the Biggest Crab Feed and evening of entertainment on the coast! All you can eat crab\, plus salad\, bread\, wine and dessert!Â  All this means you should get your tickets early = This event sells out both night\, every year. Live entertainment at 8\;00pm and the Grand Raffle at 9:00pmÂ  Tickets are $55.00Â  You may call Ed @ (707) 937-1293 or go to our web @ <a href="http://www.kcmendo.org">www.kcmendo.org</a> You mail email Ed @ <a href="mailto:kccrabfeed@mcn.org">kccrabfeed@mcn.org</a> </span></span><strong><span style="font-size:small\;"><br /></span></strong></p>
LOCATION:Crown Hall\, 45285 Ukiah Street Mendocino
UID:e.2883.745
SEQUENCE:3
DTSTAMP:20260422T020021Z
URL:https://mendocinocoast.com/events/details/knights-of-columbus-mendocino-crab-feed-10-07-2015-745
END:VEVENT

END:VCALENDAR
