BEGIN:VCALENDAR
VERSION:2.0
PRODID:-//ChamberMaster//Event Calendar 2.0//EN
METHOD:PUBLISH
X-PUBLISHED-TTL:P3D
REFRESH-INTERVAL:P3D
CALSCALE:GREGORIAN
BEGIN:VEVENT
DTSTART:20140524T173000Z
DTEND:20140524T230000Z
X-MICROSOFT-CDO-ALLDAYEVENT:FALSE
SUMMARY:Kayaking Waves n Sea Caves Weekend
DESCRIPTION:Experience 3 days of playful exploration on the Mendocino Coast enjoying areas only accessible by kayak. We will guide you to some of our favorite spots and show you the tricks you need to kayak and play in our coasts rocky features. Dart into sea caves\, glide down waves\, and experience the incredible beauty of the wild Mendocino Coast. Enjoy 3 nights of camping and meals provided by LFK. Mornings you will awake to the sounds of birds and the smell of Thanksgiving Coffee brewing followed by breakfast and the paddling plans for the day. In the evening\, shower and relax as LFK prepares a hearty dinner followed by an evening around the campfire sharing tales and adventures. For more information contact Liquid Fusion Kayaking.
X-ALT-DESC;FMTTYPE=text/html:<p>Experience 3 days of playful exploration on the Mendocino Coast enjoying areas only accessible by kayak. We will guide you to some of our favorite spots and show you the tricks you need to kayak and play in our coasts rocky features. Dart into sea caves\, glide down waves\, and experience the incredible beauty of the wild Mendocino Coast. Enjoy 3 nights of camping and meals provided by LFK. Mornings you will awake to the sounds of birds and the smell of Thanksgiving Coffee brewing followed by breakfast and the paddling plans for the day. In the evening\, shower and relax as LFK prepares a hearty dinner followed by an evening around the campfire sharing tales and adventures. For more information contact Liquid Fusion Kayaking.</p>
LOCATION:Mendocino Coast
UID:e.2883.54
SEQUENCE:3
DTSTAMP:20260423T082926Z
URL:https://mendocinocoast.com/events/details/kayaking-waves-n-sea-caves-weekend-05-24-2014-54
END:VEVENT

END:VCALENDAR
