BEGIN:VCALENDAR
VERSION:2.0
PRODID:-//ChamberMaster//Event Calendar 2.0//EN
METHOD:PUBLISH
X-PUBLISHED-TTL:P3D
REFRESH-INTERVAL:P3D
CALSCALE:GREGORIAN
BEGIN:VEVENT
DTSTART:20140417T220000Z
DTEND:20140417T233000Z
X-MICROSOFT-CDO-ALLDAYEVENT:FALSE
SUMMARY:Kathleen Grace Band at the Mendocino Music Festivall
DESCRIPTION:Kathleen Grace BandSaturday\, July 19\, 2014\, 3:00 PMPreston Hall - adjacent to the Mendocino Presbyterian ChurchA favorite of the Festival\, as Big Band singer\, Kathleen Grace returns with her own Band and her own songs that fuse the musical language of jazz\, rock and folk with extraordinary storytelling abilities.She has been described as â€œsomewhere between cheeky and poignant.â€ She has an amazing ability to use her beautiful voice and friendly warm delivery to draw audiences into each song.â€œThe Kathleen Grace Band lives somewhere between cheeky and poignant\, plugging their brand of jazz\, rock\, and folk into the purity of music and coming up with awe-inspiring resultsâ€¦Based out of Los Angeles\, Grace and her band have worked through the music scene in the area with their attention to detail\, extraordinary storytelling abilities\, and delightfully pure music.â€ Jordan Richardson\, Blog Critics MagazineThe Mendocino Music Festival runs July 12 - 26. More information www.MendocinoMusic.org
X-ALT-DESC;FMTTYPE=text/html:Kathleen Grace BandSaturday\, July 19\, 2014\, 3:00 PMPreston Hall - adjacent to the Mendocino Presbyterian ChurchA favorite of the Festival\, as Big Band singer\, Kathleen Grace returns with her own Band and her own songs that fuse the musical language of jazz\, rock and folk with extraordinary storytelling abilities.She has been described as â€œsomewhere between cheeky and poignant.â€ She has an amazing ability to use her beautiful voice and friendly warm delivery to draw audiences into each song.â€œThe Kathleen Grace Band lives somewhere between cheeky and poignant\, plugging their brand of jazz\, rock\, and folk into the purity of music and coming up with awe-inspiring resultsâ€¦Based out of Los Angeles\, Grace and her band have worked through the music scene in the area with their attention to detail\, extraordinary storytelling abilities\, and delightfully pure music.â€ Jordan Richardson\, Blog Critics MagazineThe Mendocino Music Festival runs July 12 - 26. More information www.MendocinoMusic.org
LOCATION:Preston Hall - adjacent to Mendocino Presbyterian Church\, Main St.
UID:e.2883.217
SEQUENCE:3
DTSTAMP:20260423T100512Z
URL:https://mendocinocoast.com/events/details/kathleen-grace-band-at-the-mendocino-music-festivall-04-17-2014-217
END:VEVENT

END:VCALENDAR
