BEGIN:VCALENDAR
VERSION:2.0
PRODID:-//ChamberMaster//Event Calendar 2.0//EN
METHOD:PUBLISH
X-PUBLISHED-TTL:P3D
REFRESH-INTERVAL:P3D
CALSCALE:GREGORIAN
BEGIN:VEVENT
DTSTART:20150615T230400Z
DTEND:20150616T000400Z
X-MICROSOFT-CDO-ALLDAYEVENT:FALSE
SUMMARY:Junior Rangers at MacKerricher
DESCRIPTION:Children ages 7-12 are invited to come participate in the Junior Rangers Program at MacKerricher State Park!
X-ALT-DESC;FMTTYPE=text/html:<p>Children ages 7-12 are invited to come participate in the Junior Rangers Program at MacKerricher State Park!</p>
LOCATION:MacKerricher State Park Cleone\,CA
UID:e.2883.646
SEQUENCE:3
DTSTAMP:20260422T082410Z
URL:https://mendocinocoast.com/events/details/junior-rangers-at-mackerricher-06-15-2015-646
END:VEVENT

END:VCALENDAR
