BEGIN:VCALENDAR
VERSION:2.0
PRODID:-//ChamberMaster//Event Calendar 2.0//EN
METHOD:PUBLISH
X-PUBLISHED-TTL:P3D
REFRESH-INTERVAL:P3D
CALSCALE:GREGORIAN
BEGIN:VEVENT
DTSTART:20150612T230000Z
DTEND:20150613T000000Z
X-MICROSOFT-CDO-ALLDAYEVENT:FALSE
SUMMARY:Junior Rangers
DESCRIPTION:This free ongoingÂ program provides an opportunity to learn about our local heritage and natural history.Â  Junior Rangers can meet one anoher while participating in a fun\, intractive and educational program.Â  Junior Ranger badges are earned upon attendance at the first program.Â  This program is most appropriate for ages 6 - 12.Â  Junior RangeresÂ  is a program provided by State Parks and MAPA.Â  Meet at the Laguna Point parking lot at MacKerricher State Park Fridays at 4 p.m.
X-ALT-DESC;FMTTYPE=text/html:<p>This free ongoingÂ program provides an opportunity to learn about our local heritage and natural history.Â  Junior Rangers can meet one anoher while participating in a fun\, intractive and educational program.Â  Junior Ranger badges are earned upon attendance at the first program.Â  This program is most appropriate for ages 6 - 12.Â  Junior RangeresÂ  is a program provided by State Parks and MAPA.Â  Meet at the Laguna Point parking lot at MacKerricher State Park Fridays at 4 p.m.</p>
LOCATION:MacKerricher State Park Fort Bragg
UID:e.2883.643
SEQUENCE:3
DTSTAMP:20260422T082223Z
URL:https://mendocinocoast.com/events/details/junior-rangers-06-12-2015-643
END:VEVENT

END:VCALENDAR
