BEGIN:VCALENDAR
VERSION:2.0
PRODID:-//ChamberMaster//Event Calendar 2.0//EN
METHOD:PUBLISH
X-PUBLISHED-TTL:P3D
REFRESH-INTERVAL:P3D
CALSCALE:GREGORIAN
BEGIN:VEVENT
DTSTART:20140411T030000Z
DTEND:20140411T050000Z
X-MICROSOFT-CDO-ALLDAYEVENT:FALSE
SUMMARY:Juncal Street Flamenco: Mendocino Music Festivall
DESCRIPTION:Juncal Street: Homage to the Flamenco TraditionMonday\, July 14\, 2014 8:00 PMTent Concert Hall - overlooking the Pacific OceanSix incredible artists\, all virtuosi of their art forms\, draw global inspiration from contemporary art and dance. Three-time Isadora Duncan nominees for Most Outstanding Music\, Ensemble\, and Individual Performance\, they constitute a multicultural medley of Gypsy\, French\, and Spanish origins.â€œWhen artists can carry an audienceâ€™s intensive response as these six were able in this setting\, itâ€™s really something.â€ â€“Renee Renouf
X-ALT-DESC;FMTTYPE=text/html:Juncal Street: Homage to the Flamenco TraditionMonday\, July 14\, 2014 8:00 PMTent Concert Hall - overlooking the Pacific OceanSix incredible artists\, all virtuosi of their art forms\, draw global inspiration from contemporary art and dance. Three-time Isadora Duncan nominees for Most Outstanding Music\, Ensemble\, and Individual Performance\, they constitute a multicultural medley of Gypsy\, French\, and Spanish origins.â€œWhen artists can carry an audienceâ€™s intensive response as these six were able in this setting\, itâ€™s really something.â€ â€“Renee Renouf
LOCATION:16\,000 square foot Tent Performance Hall Mendocino
UID:e.2883.204
SEQUENCE:3
DTSTAMP:20260423T100609Z
URL:https://mendocinocoast.com/events/details/juncal-street-flamenco-mendocino-music-festivall-04-10-2014-204
END:VEVENT

END:VCALENDAR
