BEGIN:VCALENDAR
VERSION:2.0
PRODID:-//ChamberMaster//Event Calendar 2.0//EN
METHOD:PUBLISH
X-PUBLISHED-TTL:P3D
REFRESH-INTERVAL:P3D
CALSCALE:GREGORIAN
BEGIN:VEVENT
DTSTART:20160315T200000Z
DTEND:20160315T230000Z
X-MICROSOFT-CDO-ALLDAYEVENT:FALSE
SUMMARY:JOB FAIR March 30\, 2016
DESCRIPTION:MPIC\, Inc. and the proud partners of America'sJobCenter of CA will be hosting a JOB FAIR at Mendocino Works Coastal Office on the Mendocino College Coast Center.Come dressed for success and meet local employers with full and part time employment opportunities.For more information call Susan Holcomb 707-964-4674Employers wanting to register for table space at this event at no cost\, please register at the following link:https://www.surveymonkey.com/r/MCCCjobfairMarch
X-ALT-DESC;FMTTYPE=text/html:<p>MPIC\, Inc. and the proud partners of America'sJobCenter of CA will be hosting a JOB FAIR at Mendocino Works Coastal Office on the Mendocino College Coast Center.</p><p>Come dressed for success and meet local employers with full and part time employment opportunities.</p><p>For more information call Susan Holcomb 707-964-4674</p><p>Employers wanting to register for table space at this event at no cost\, please register at the following link:</p><p>https://www.surveymonkey.com/r/MCCCjobfairMarch</p>
LOCATION:1211 Del Mar Dr Ste 106 Fort Bragg
UID:e.2883.875
SEQUENCE:3
DTSTAMP:20260421T173318Z
URL:https://mendocinocoast.com/events/details/job-fair-march-30-2016-03-15-2016-875
END:VEVENT

END:VCALENDAR
