BEGIN:VCALENDAR
VERSION:2.0
PRODID:-//ChamberMaster//Event Calendar 2.0//EN
METHOD:PUBLISH
X-PUBLISHED-TTL:P3D
REFRESH-INTERVAL:P3D
CALSCALE:GREGORIAN
BEGIN:VEVENT
DTSTART:20160318T013000Z
DTEND:20160317T225300Z
X-MICROSOFT-CDO-ALLDAYEVENT:FALSE
SUMMARY:Jazz at the Sequoia Room - Braet and Brown Duo
DESCRIPTION:Braet and Brown DuoDavid Brown\, guitar\, and Jack Braet on sax\, clarinet and flute.6-9 pm Dinner Jazz. No Cover â€“ No Reservations.Please inquire with the hostess for seating in the Sequoia Room â€“ Full Taproom menu.
X-ALT-DESC;FMTTYPE=text/html:<p>Braet and Brown Duo</p><p>David Brown\, guitar\, and Jack Braet on sax\, clarinet and flute.</p><p>6-9 pm Dinner Jazz. No Cover â€“ No Reservations.</p><p>Please inquire with the hostess for seating in the Sequoia Room â€“ Full Taproom menu.</p>
LOCATION:Jazz at the Sequoia Room Fort Bragg
UID:e.2883.883
SEQUENCE:3
DTSTAMP:20260421T192442Z
URL:https://mendocinocoast.com/events/details/jazz-at-the-sequoia-room-braet-and-brown-duo-03-17-2016-883
END:VEVENT

END:VCALENDAR
