BEGIN:VCALENDAR
VERSION:2.0
PRODID:-//ChamberMaster//Event Calendar 2.0//EN
METHOD:PUBLISH
X-PUBLISHED-TTL:P3D
REFRESH-INTERVAL:P3D
CALSCALE:GREGORIAN
BEGIN:VEVENT
DTSTART:20150117T043000Z
DTEND:20150118T000400Z
X-MICROSOFT-CDO-ALLDAYEVENT:FALSE
SUMMARY:Jammin' for Jamie\, a benefit
DESCRIPTION:Mendocino Stories & Events is happy to bring some favorite local musicians together to play the blues and soulful tunes in a benefit for our dear friend Jamie Gilliam for medical and living expenses while he has his shoulder repaired. We are hoping that he will be able to join us on stage. Music starts at 7:30PM on Saturday\, March 7 at Hill House Inn.\n\nRhythm & Blues band "Soul Survivors" - Billy Schieve\, Sharon Garner\, Johnny Bush\, Richie Rosenbaum and Steve Davidson - is the core band. Special guests - many who played in BeatleFest last October - include Danny Barca\, Steven Bates\, Bill Bottrell\, Tommy Brown\, Pattie DeMatteo\, Richard Fienburgh\, Sherry Lea Jones\, Denny Lunsford\, Marcus McCallen\, Sue Sisk\, Jeffrey Walsh\, Jean Whipple and more.\n\nDoors open at 6PM for casual dining and full bar. Suggested donation at the door $20. 937-1732 for more info.
X-ALT-DESC;FMTTYPE=text/html:<p><span style="font-size:medium\;"><strong>Mendocino Stories</strong> &amp\; Events is happy to bring some favorite local musicians together to play the blues and soulful tunes in a benefit for our dear friend Jamie Gilliam for medical and living expenses while he has his shoulder repaired. We are hoping that he will be able to join us on stage. Music starts at 7:30PM on Saturday\, March 7 at Hill House Inn.</span><br /><br /><span style="font-size:medium\;">Rhythm &amp\; Blues band "Soul Survivors" - Billy Schieve\, Sharon Garner\, Johnny Bush\, Richie Rosenbaum and Steve Davidson - is the core band. Special guests - many who played in BeatleFest last October - include Danny Barca\, Steven Bates\, Bill Bottrell\, Tommy Brown\, Pattie DeMatteo\, Richard Fienburgh\, Sherry Lea Jones\, Denny Lunsford\, Marcus McCallen\, Sue Sisk\, Jeffrey Walsh\, Jean Whipple and more.</span><br /><br /><span style="font-size:medium\;">Doors open at 6PM for casual dining and full bar. Suggested donation at the door $20. 937-1732 for more info</span>.</p>
LOCATION:Hill House of Mendocino
UID:e.2883.442
SEQUENCE:3
DTSTAMP:20260422T163408Z
URL:https://mendocinocoast.com/events/details/jammin-for-jamie-a-benefit-01-16-2015-442
END:VEVENT

END:VCALENDAR
