BEGIN:VCALENDAR
VERSION:2.0
PRODID:-//ChamberMaster//Event Calendar 2.0//EN
METHOD:PUBLISH
X-PUBLISHED-TTL:P3D
REFRESH-INTERVAL:P3D
CALSCALE:GREGORIAN
BEGIN:VEVENT
DTSTART:20150817T170000Z
DTEND:20150818T000000Z
X-MICROSOFT-CDO-ALLDAYEVENT:FALSE
SUMMARY:It's Complicated: Paintings in a Mix of Mediums" by Arlene Reiss
DESCRIPTION:PARTNERS GALLERYâ€œITâ€™S COMPLICATED: PAINTINGS IN A MIX OF MEDIUMSâ€ BY ARLENE REISSÂ Sept 3 â€“ 27\, 2015First Friday Reception Sept 4th\, 5-8pm.Wine by Graziano Family of WinesÂ In September\, Partners Gallery is featuring new work by Arlene Reiss done in a variety of mediums and surfaces. â€œIts Complicatedâ€ consists of acrylic paintings and mixed medium paintings on paper\, panels or canvases.Â  For the first time she is exhibiting some enlarged IPAD paintings to which she has added acrylic and/or collage and are printed on Mulberry paper and waxed or varnished. While she works intuitively\, what unites the work is Reissâ€™s well-developed sense of color\, form and composition.Â Partners Gallery is located at 335N. Franklin Street in Fort Bragg and is open Wednesday through Monday 10 am to 5 pm and Sundays 10 am to 4 pm.707 962-0233Â  http://www.partnersgallery.com
X-ALT-DESC;FMTTYPE=text/html:<p>PARTNERS GALLERY</p><p>â€œITâ€™S COMPLICATED: PAINTINGS IN A MIX OF MEDIUMSâ€ BY ARLENE REISS</p><p>Â </p><p>Sept 3 â€“ 27\, 2015</p><p>First Friday Reception Sept 4<sup>th</sup>\, 5-8pm.</p><p>Wine by Graziano Family of Wines</p><p>Â </p><p>In September\, Partners Gallery is featuring new work by Arlene Reiss done in a variety of mediums and surfaces. â€œIts Complicatedâ€ consists of acrylic paintings and mixed medium paintings on paper\, panels or canvases.Â  For the first time she is exhibiting some enlarged IPAD paintings to which she has added acrylic and/or collage and are printed on Mulberry paper and waxed or varnished. While she works intuitively\, what unites the work is Reissâ€™s well-developed sense of color\, form and composition.</p><p>Â </p><p>Partners Gallery is located at 335N. Franklin Street in Fort Bragg and is open Wednesday through Monday 10 am to 5 pm and Sundays 10 am to 4 pm.</p><p>707 962-0233Â  <a href="http://www.partnersgallery.com">http://www.partnersgallery.com</a>&gt\;</p>
LOCATION:Partners Gallery Fort Bragg
UID:e.2883.710
SEQUENCE:3
DTSTAMP:20260422T050527Z
URL:https://mendocinocoast.com/events/details/it-s-complicated-paintings-in-a-mix-of-mediums-by-arlene-reiss-08-17-2015-710
END:VEVENT

END:VCALENDAR
